BEGIN:VCALENDAR
VERSION:2.0
PRODID:-//time.now/holidays//NONSGML v1.0//EN
BEGIN:VEVENT
UID:d385761e-4a9e-45e0-a64b-e86e5c93f397
DTSTAMP:20260420T063323Z
DTSTART;VALUE=DATE:20260302
SUMMARY:Yap Day (observed) (Estados Federados de Micronesia)
END:VEVENT
END:VCALENDAR