BEGIN:VCALENDAR
VERSION:2.0
PRODID:-//time.now/holidays//NONSGML v1.0//EN
BEGIN:VEVENT
UID:5ece55e6-5b24-4aae-b7cb-88502728fb9e
DTSTAMP:20260420T053504Z
DTSTART;VALUE=DATE:20260308
SUMMARY:Women's Day (Estados Federados de Micronesia)
END:VEVENT
END:VCALENDAR