BEGIN:VCALENDAR
VERSION:2.0
PRODID:-//time.now/holidays//NONSGML v1.0//EN
BEGIN:VEVENT
UID:48040941-5403-4f43-a1c1-40615c4e9549
DTSTAMP:20260420T163704Z
DTSTART;VALUE=DATE:20261023
SUMMARY:United Nations Day (observed) (Estados Federados de Micronesia)
END:VEVENT
END:VCALENDAR