BEGIN:VCALENDAR
VERSION:2.0
PRODID:-//time.now/holidays//NONSGML v1.0//EN
BEGIN:VEVENT
UID:49be4f36-440f-434a-80e6-891e6a7fe318
DTSTAMP:20260420T125557Z
DTSTART;VALUE=DATE:20261123
SUMMARY:Presidents Day (Estados Federados de Micronesia)
END:VEVENT
END:VCALENDAR