BEGIN:VCALENDAR
VERSION:2.0
PRODID:-//time.now/holidays//NONSGML v1.0//EN
BEGIN:VEVENT
UID:70bee75a-d138-42d5-9ef3-9bc20765eefc
DTSTAMP:20260422T085641Z
DTSTART;VALUE=DATE:20281123
SUMMARY:Presidents Day; Thanksgiving Day (Estados Federados de Micronesia)
END:VEVENT
END:VCALENDAR