BEGIN:VCALENDAR
VERSION:2.0
PRODID:-//time.now/holidays//NONSGML v1.0//EN
BEGIN:VEVENT
UID:03a3e14f-00aa-45ce-8bea-65c79769b852
DTSTAMP:20260420T162957Z
DTSTART;VALUE=DATE:20301122
SUMMARY:Presidents Day (observed) (Estados Federados de Micronesia)
END:VEVENT
END:VCALENDAR