BEGIN:VCALENDAR
VERSION:2.0
PRODID:-//time.now/holidays//NONSGML v1.0//EN
BEGIN:VEVENT
UID:8ff997da-a00d-45d6-9c40-85398ad23db1
DTSTAMP:20260420T043011Z
DTSTART;VALUE=DATE:20261108
SUMMARY:Pohnpei Constitution Day (Estados Federados de Micronesia)
END:VEVENT
END:VCALENDAR