BEGIN:VCALENDAR
VERSION:2.0
PRODID:-//time.now/holidays//NONSGML v1.0//EN
BEGIN:VEVENT
UID:db3748cc-0119-4eee-a23a-c43322fe1fe8
DTSTAMP:20260420T074506Z
DTSTART;VALUE=DATE:20260911
SUMMARY:Liberation Day (Estados Federados de Micronesia)
END:VEVENT
END:VCALENDAR