BEGIN:VCALENDAR
VERSION:2.0
PRODID:-//time.now/holidays//NONSGML v1.0//EN
BEGIN:VEVENT
UID:bdfd8ba6-6508-44c6-a132-68a1584b131a
DTSTAMP:20260420T125606Z
DTSTART;VALUE=DATE:20270910
SUMMARY:Liberation Day (observed) (Estados Federados de Micronesia)
END:VEVENT
END:VCALENDAR