BEGIN:VCALENDAR
VERSION:2.0
PRODID:-//time.now/holidays//NONSGML v1.0//EN
BEGIN:VEVENT
UID:0e8a320f-a27d-4ba8-86dd-f4a9684cbe29
DTSTAMP:20260422T085941Z
DTSTART;VALUE=DATE:20291102
SUMMARY:Independence Day (observed); Self Government Day (observed) (Estados Federados de Micronesia)
END:VEVENT
END:VCALENDAR