BEGIN:VCALENDAR
VERSION:2.0
PRODID:-//time.now/holidays//NONSGML v1.0//EN
BEGIN:VEVENT
UID:a968af17-2fc3-457b-ace1-84fdec02f96c
DTSTAMP:20260422T091124Z
DTSTART;VALUE=DATE:20261111
SUMMARY:FSM Veterans of Foreign Wars Day (Estados Federados de Micronesia)
END:VEVENT
END:VCALENDAR