BEGIN:VCALENDAR
VERSION:2.0
PRODID:-//time.now/holidays//NONSGML v1.0//EN
BEGIN:VEVENT
UID:85d75232-42da-46fe-9965-8fa5c39cf7ef
DTSTAMP:20260422T223816Z
DTSTART;VALUE=DATE:20281225
SUMMARY:Christmas Day; Yap State Constitution Day (observed) (Estados Federados de Micronesia)
END:VEVENT
END:VCALENDAR