BEGIN:VCALENDAR
VERSION:2.0
PRODID:-//time.now/holidays//NONSGML v1.0//EN
BEGIN:VEVENT
UID:ea4fa94b-0937-488e-993f-6e47e6636fba
DTSTAMP:20260419T205717Z
DTSTART;VALUE=DATE:20260202
SUMMARY:Constitution Day (México)
END:VEVENT
END:VCALENDAR