BEGIN:VCALENDAR
VERSION:2.0
PRODID:-//time.now/holidays//NONSGML v1.0//EN
BEGIN:VEVENT
UID:c874c6c0-bf17-443a-a228-7edbb2eca304
DTSTAMP:20260422T134121Z
DTSTART;VALUE=DATE:20301001
SUMMARY:Change of Federal Government (México)
END:VEVENT
END:VCALENDAR