BEGIN:VCALENDAR
VERSION:2.0
PRODID:-//time.now/holidays//NONSGML v1.0//EN
BEGIN:VEVENT
UID:f6b0cd33-45f9-4bd4-a704-b854576424b2
DTSTAMP:20260422T090914Z
DTSTART;VALUE=DATE:20260316
SUMMARY:Benito Juárez's birthday (México)
END:VEVENT
END:VCALENDAR