BEGIN:VCALENDAR
VERSION:2.0
PRODID:-//time.now/holidays//NONSGML v1.0//EN
BEGIN:VEVENT
UID:47c49b43-882b-47c2-a529-42e157f4ad65
DTSTAMP:20260420T201032Z
DTSTART;VALUE=DATE:20260616
SUMMARY:Islamic New Year (estimated) (Mauritania)
END:VEVENT
END:VCALENDAR