BEGIN:VCALENDAR
VERSION:2.0
PRODID:-//time.now/holidays//NONSGML v1.0//EN
BEGIN:VEVENT
UID:6ca75835-aab0-4bd6-893c-d41053914f41
DTSTAMP:20260420T194345Z
DTSTART;VALUE=DATE:20260527
SUMMARY:Eid al-Adha (estimated) (Mauritania)
END:VEVENT
END:VCALENDAR