BEGIN:VCALENDAR
VERSION:2.0
PRODID:-//time.now/holidays//NONSGML v1.0//EN
BEGIN:VEVENT
UID:71d7034a-90cb-486a-a56c-d3bb118d11d8
DTSTAMP:20260422T193232Z
DTSTART;VALUE=DATE:20260525
SUMMARY:Africa Day (Mauritania)
END:VEVENT
END:VCALENDAR