BEGIN:VCALENDAR
VERSION:2.0
PRODID:-//time.now/holidays//NONSGML v1.0//EN
BEGIN:VEVENT
UID:e1b3c63b-3376-427f-be50-bf6e68240899
DTSTAMP:20260420T163725Z
DTSTART;VALUE=DATE:20260703
SUMMARY:Fisherman's Day (Islas Marshall)
END:VEVENT
END:VCALENDAR