BEGIN:VCALENDAR
VERSION:2.0
PRODID:-//time.now/holidays//NONSGML v1.0//EN
BEGIN:VEVENT
UID:e7d2b6fa-2810-44ae-8d9e-ddca52d86e55
DTSTAMP:20260420T043203Z
DTSTART;VALUE=DATE:20260501
SUMMARY:Constitution Day (Islas Marshall)
END:VEVENT
END:VCALENDAR