BEGIN:VCALENDAR
VERSION:2.0
PRODID:-//time.now/holidays//NONSGML v1.0//EN
BEGIN:VEVENT
UID:16c63956-2e70-4d2c-bc99-476d282bb098
DTSTAMP:20260420T214826Z
DTSTART;VALUE=DATE:20331226
SUMMARY:Christmas Day Holiday (Islas Marshall)
END:VEVENT
END:VCALENDAR