BEGIN:VCALENDAR
VERSION:2.0
PRODID:-//time.now/holidays//NONSGML v1.0//EN
BEGIN:VEVENT
UID:a464e107-149b-49f0-8957-64f712af209a
DTSTAMP:20260422T092514Z
DTSTART;VALUE=DATE:20260629
SUMMARY:Feast of Saint Peter and Saint Paul (Malta)
END:VEVENT
END:VCALENDAR