BEGIN:VCALENDAR
VERSION:2.0
PRODID:-//time.now/holidays//NONSGML v1.0//EN
BEGIN:VEVENT
UID:a63a460d-dc85-4a66-a709-26b21587ae15
DTSTAMP:20260420T093450Z
DTSTART;VALUE=DATE:20261111
SUMMARY:Republic Day (Maldivas)
END:VEVENT
END:VCALENDAR