BEGIN:VCALENDAR
VERSION:2.0
PRODID:-//time.now/holidays//NONSGML v1.0//EN
BEGIN:VEVENT
UID:dd659cdd-70a0-41b2-933a-23c87dc3b970
DTSTAMP:20260420T185429Z
DTSTART;VALUE=DATE:20260526
SUMMARY:Hajj Day (estimated) (Maldivas)
END:VEVENT
END:VCALENDAR