BEGIN:VCALENDAR
VERSION:2.0
PRODID:-//time.now/holidays//NONSGML v1.0//EN
BEGIN:VEVENT
UID:57f68126-16b4-498a-a6ea-e7cc497247c1
DTSTAMP:20260420T211226Z
DTSTART;VALUE=DATE:20260320
SUMMARY:Eid al-Fitr (estimated) (Maldivas)
END:VEVENT
END:VCALENDAR