BEGIN:VCALENDAR
VERSION:2.0
PRODID:-//time.now/holidays//NONSGML v1.0//EN
BEGIN:VEVENT
UID:0b2e7ecf-081f-42b9-a0a9-8124c6bd7ab7
DTSTAMP:20260422T193235Z
DTSTART;VALUE=DATE:20260218
SUMMARY:Beginning of Ramadan (estimated) (Maldivas)
END:VEVENT
END:VCALENDAR