BEGIN:VCALENDAR
VERSION:2.0
PRODID:-//time.now/holidays//NONSGML v1.0//EN
BEGIN:VEVENT
UID:c5bf7f58-b589-4804-9a6c-1b2485c943fb
DTSTAMP:20260422T085320Z
DTSTART;VALUE=DATE:20260825
SUMMARY:Prophet Muhammad's Birthday (estimated) (Malasia)
END:VEVENT
END:VCALENDAR