BEGIN:VCALENDAR
VERSION:2.0
PRODID:-//time.now/holidays//NONSGML v1.0//EN
BEGIN:VEVENT
UID:7ad3b706-00f6-43a1-82a4-20f6f8172c0a
DTSTAMP:20260422T092635Z
DTSTART;VALUE=DATE:20230409
SUMMARY:Nuzul Al-Quran Day (observed) (Malasia)
END:VEVENT
END:VCALENDAR