BEGIN:VCALENDAR
VERSION:2.0
PRODID:-//time.now/holidays//NONSGML v1.0//EN
BEGIN:VEVENT
UID:6c2efcdc-9618-4f0d-8131-0ee0fb4a9228
DTSTAMP:20260422T092502Z
DTSTART;VALUE=DATE:20260306
SUMMARY:Nuzul Al-Quran Day (estimated) (Malasia)
END:VEVENT
END:VCALENDAR