BEGIN:VCALENDAR
VERSION:2.0
PRODID:-//time.now/holidays//NONSGML v1.0//EN
BEGIN:VEVENT
UID:4148d581-7950-48e8-bf3b-e0a5dfc48966
DTSTAMP:20260421T145507Z
DTSTART;VALUE=DATE:20270502
SUMMARY:Labor Day (observed) (Malasia)
END:VEVENT
END:VCALENDAR