BEGIN:VCALENDAR
VERSION:2.0
PRODID:-//time.now/holidays//NONSGML v1.0//EN
BEGIN:VEVENT
UID:6214b8b5-3193-43a2-9a6e-9fb8f3a3c822
DTSTAMP:20260420T213057Z
DTSTART;VALUE=DATE:20260116
SUMMARY:Isra' and Mi'raj (estimated) (Malasia)
END:VEVENT
END:VCALENDAR