BEGIN:VCALENDAR
VERSION:2.0
PRODID:-//time.now/holidays//NONSGML v1.0//EN
BEGIN:VEVENT
UID:07466c57-68a1-4507-bb54-037f81498159
DTSTAMP:20260421T005744Z
DTSTART;VALUE=DATE:20240707
SUMMARY:George Town Heritage Day; Islamic New Year (Malasia)
END:VEVENT
END:VCALENDAR