BEGIN:VCALENDAR
VERSION:2.0
PRODID:-//time.now/holidays//NONSGML v1.0//EN
BEGIN:VEVENT
UID:ab7f5f62-6877-44f5-8038-df50da56cf2c
DTSTAMP:20260420T122137Z
DTSTART;VALUE=DATE:20221118
SUMMARY:General election additional holiday (Malasia)
END:VEVENT
END:VCALENDAR