BEGIN:VCALENDAR
VERSION:2.0
PRODID:-//time.now/holidays//NONSGML v1.0//EN
BEGIN:VEVENT
UID:2af6bc73-ac2b-4360-a53a-dec7508e6c47
DTSTAMP:20260422T045155Z
DTSTART;VALUE=DATE:20260322
SUMMARY:Eid al-Fitr (Third Day) (estimated) (Malasia)
END:VEVENT
END:VCALENDAR