BEGIN:VCALENDAR
VERSION:2.0
PRODID:-//time.now/holidays//NONSGML v1.0//EN
BEGIN:VEVENT
UID:076b12c9-4524-45f7-a2ef-caf646dc90e3
DTSTAMP:20260420T210012Z
DTSTART;VALUE=DATE:20260320
SUMMARY:Eid al-Fitr (estimated) (Malasia)
END:VEVENT
END:VCALENDAR