BEGIN:VCALENDAR
VERSION:2.0
PRODID:-//time.now/holidays//NONSGML v1.0//EN
BEGIN:VEVENT
UID:7aa8ea36-503c-4e14-ad64-88b2eb3db204
DTSTAMP:20260420T184618Z
DTSTART;VALUE=DATE:20260528
SUMMARY:Eid al-Adha (Second Day) (estimated) (Malasia)
END:VEVENT
END:VCALENDAR