BEGIN:VCALENDAR
VERSION:2.0
PRODID:-//time.now/holidays//NONSGML v1.0//EN
BEGIN:VEVENT
UID:1dc755f3-ea70-410f-8a90-0a6d9807d359
DTSTAMP:20260420T183539Z
DTSTART;VALUE=DATE:20260527
SUMMARY:Eid al-Adha (estimated) (Malasia)
END:VEVENT
END:VCALENDAR