BEGIN:VCALENDAR
VERSION:2.0
PRODID:-//time.now/holidays//NONSGML v1.0//EN
BEGIN:VEVENT
UID:2652957a-9518-4859-8eb1-62d23d75db2c
DTSTAMP:20260420T052456Z
DTSTART;VALUE=DATE:20261108
SUMMARY:Deepavali (observed) (Malasia)
END:VEVENT
END:VCALENDAR