BEGIN:VCALENDAR
VERSION:2.0
PRODID:-//time.now/holidays//NONSGML v1.0//EN
BEGIN:VEVENT
UID:0c6212e7-8502-4d2a-9955-3ddb16203638
DTSTAMP:20260422T084033Z
DTSTART;VALUE=DATE:20280221
SUMMARY:Declaration of Independence Day (observed) (Malasia)
END:VEVENT
END:VCALENDAR