BEGIN:VCALENDAR
VERSION:2.0
PRODID:-//time.now/holidays//NONSGML v1.0//EN
BEGIN:VEVENT
UID:0df1d2a5-45d9-4c46-a8b7-df8214f678a8
DTSTAMP:20260422T105332Z
DTSTART;VALUE=DATE:20260602
SUMMARY:Dayak Festival Day (Malasia)
END:VEVENT
END:VCALENDAR