BEGIN:VCALENDAR
VERSION:2.0
PRODID:-//time.now/holidays//NONSGML v1.0//EN
BEGIN:VEVENT
UID:66d0d710-a67b-4223-acdb-8c41d9daa181
DTSTAMP:20260422T211759Z
DTSTART;VALUE=DATE:20300604
SUMMARY:Dayak Festival Day (observed) (Malasia)
END:VEVENT
END:VCALENDAR