BEGIN:VCALENDAR
VERSION:2.0
PRODID:-//time.now/holidays//NONSGML v1.0//EN
BEGIN:VEVENT
UID:b0feb2c6-ef98-4015-a29e-88e5f0e99d84
DTSTAMP:20260420T191706Z
DTSTART;VALUE=DATE:20261224
SUMMARY:Christmas Eve (Malasia)
END:VEVENT
END:VCALENDAR