BEGIN:VCALENDAR
VERSION:2.0
PRODID:-//time.now/holidays//NONSGML v1.0//EN
BEGIN:VEVENT
UID:5bce812c-4c85-46fc-b304-3f1ac6d45234
DTSTAMP:20260421T005457Z
DTSTART;VALUE=DATE:20260323
SUMMARY:Birthday of the Sultan of Johor (Malasia)
END:VEVENT
END:VCALENDAR