BEGIN:VCALENDAR
VERSION:2.0
PRODID:-//time.now/holidays//NONSGML v1.0//EN
BEGIN:VEVENT
UID:ff56faf3-a1db-46cf-988e-c7e642c4ac52
DTSTAMP:20260421T022602Z
DTSTART;VALUE=DATE:20261010
SUMMARY:Birthday of the Governor of Sarawak (Malasia)
END:VEVENT
END:VCALENDAR