BEGIN:VCALENDAR
VERSION:2.0
PRODID:-//time.now/holidays//NONSGML v1.0//EN
BEGIN:VEVENT
UID:7846083a-47c8-4bf3-9d1e-974c94936d92
DTSTAMP:20260422T110841Z
DTSTART;VALUE=DATE:20260601
SUMMARY:Birthday of HM Yang di-Pertuan Agong; Dayak Festival Day (Malasia)
END:VEVENT
END:VCALENDAR