BEGIN:VCALENDAR
VERSION:2.0
PRODID:-//time.now/holidays//NONSGML v1.0//EN
BEGIN:VEVENT
UID:870ddb52-7da5-4463-a197-d8e8c9fe68d7
DTSTAMP:20260420T155213Z
DTSTART;VALUE=DATE:20280103
SUMMARY:New Year's Day (observed) (Malaui)
END:VEVENT
END:VCALENDAR