BEGIN:VCALENDAR
VERSION:2.0
PRODID:-//time.now/holidays//NONSGML v1.0//EN
BEGIN:VEVENT
UID:f498d85b-2256-4b0a-bae8-a481b175e243
DTSTAMP:20260420T154233Z
DTSTART;VALUE=DATE:20261015
SUMMARY:Mother's Day (Malaui)
END:VEVENT
END:VCALENDAR