BEGIN:VCALENDAR
VERSION:2.0
PRODID:-//time.now/holidays//NONSGML v1.0//EN
BEGIN:VEVENT
UID:0c706d99-c82b-4fe5-ac1e-923a7f577d5b
DTSTAMP:20260420T183640Z
DTSTART;VALUE=DATE:20281016
SUMMARY:Mother's Day (observed) (Malaui)
END:VEVENT
END:VCALENDAR