BEGIN:VCALENDAR
VERSION:2.0
PRODID:-//time.now/holidays//NONSGML v1.0//EN
BEGIN:VEVENT
UID:cb531dcc-7007-4b38-ac77-c8b7205f693e
DTSTAMP:20260420T050032Z
DTSTART;VALUE=DATE:20260303
SUMMARY:Martyrs Day (Malaui)
END:VEVENT
END:VCALENDAR