BEGIN:VCALENDAR
VERSION:2.0
PRODID:-//time.now/holidays//NONSGML v1.0//EN
BEGIN:VEVENT
UID:50c428ca-eb9b-48d9-9936-8c396a94d93a
DTSTAMP:20260420T114923Z
DTSTART;VALUE=DATE:20260514
SUMMARY:Kamuzu Day (Malaui)
END:VEVENT
END:VCALENDAR